BEGIN:VCALENDAR
VERSION:2.0
PRODID:spatie/icalendar-generator
NAME:Aktien verstehen statt zocken - Praxis-Workshop zur Aktienanalyse
X-WR-CALNAME:Aktien verstehen statt zocken - Praxis-Workshop zur Aktienanal
 yse
BEGIN:VTIMEZONE
TZID:Europe/Berlin
BEGIN:STANDARD
DTSTART:20251026T030000
TZOFFSETFROM:+0200
TZOFFSETTO:+0100
END:STANDARD
BEGIN:DAYLIGHT
DTSTART:20260329T010000
TZOFFSETFROM:+0100
TZOFFSETTO:+0200
END:DAYLIGHT
END:VTIMEZONE
BEGIN:VTIMEZONE
TZID:UTC
BEGIN:STANDARD
DTSTART:20250724T023434
TZOFFSETFROM:+0000
TZOFFSETTO:+0000
END:STANDARD
END:VTIMEZONE
BEGIN:VEVENT
UID:69e590baf4067
DTSTAMP:20260420T023434Z
SUMMARY:Aktien verstehen statt zocken - Praxis-Workshop zur Aktienanalyse
DESCRIPTION:Aktien verstehen statt zocken - Praxis-Workshop zur Aktienanaly
 se\nDer Fall Wirecard hat gezeigt\, wie riskant Investieren wird\, wenn ma
 n nicht versteht\, worin man investiert. Wer sich nur an Schlagzeilen\, Em
 pfehlungen oder Trends orientiert\, macht Börse schnell zum Glücksspiel.
 \n\nIn diesem Workshop lernst Du\, Aktien als Unternehmensbeteiligung zu v
 erstehen und Investments fundierter zu beurteilen. Der Kurs startet bei de
 n Grundlagen (Börse\, Aktie\, Index\, ETF) und führt anschließend in di
 e Analyse von Unternehmen ein:\n\n\nWie liest man eine Gewinn- und Verlust
 rechnung?\nWas sagt eine Bilanz wirklich aus?\nWarum ist der Free Cashflow
  oft aussagekräftiger als der Gewinn?\nWelche Bewertungskennzahlen sind s
 innvoll (z. B. KGV\, KUV\, Enterprise Value\, EV/FCF) – und wo liegen ih
 re Grenzen?\n\nDie Inhalte werden so einfach und verständlich wie möglic
 h erklärt\, Schritt für Schritt und mit vielen Beispielen\, sodass auch 
 Einsteiger nicht abgehängt werden. Neben der Theorie werden praktische Be
 ispiele gemeinsam erarbeitet\, unter anderem mit Tools wie TradingView. \n
 \nEigene Notebooks können gerne mitgebracht werden.\n\nVoraussetzungen:\n
  Es sind keine Vorkenntnisse in Aktien oder Börse erforderlich – der Ku
 rs richtet sich ausdrücklich an Einsteiger. Benötigt werden lediglich Gr
 undrechenarten sowie die Bereitschaft\, sich aktiv und intensiver mit den 
 Inhalten zu beschäftigen.\n\nOrganisatorisches:\n Es ist eine einstündig
 e Mittagspause eingeplant. Für kalte Getränke während des Kurses ist ge
 sorgt.\n\nKursleiter:\n Der Kursleiter hat eine schulische Ausbildung mit 
 Schwerpunkt Betriebswirtschaft und Rechnungswesen und beschäftigt sich se
 it über zehn Jahren intensiv mit den Finanzmärkten. Er verwaltet seit vi
 elen Jahren familiäres Vermögen\, managt ein börsennotiertes Wikifolio 
 und arbeitet hauptberuflich als Senior Software Engineer.\n\nBitte beachte
 n: Die Teilnahmegebühr beträgt 199\,00 Euro brutto und wird nach Anmeldu
 ng in Rechnung gestellt.\n\n\n\n
LOCATION:Nordfriesisches Innovations-Center GmbH\, Schmiedestr. 11\, 25899 
 Niebüll
URL:https://event.nic-nordfriesland.de/event/WP6MLkJD
DTSTART;TZID=Europe/Berlin:20260411T100000
DTEND;TZID=Europe/Berlin:20260412T180000
END:VEVENT
END:VCALENDAR